BEGIN:VCALENDAR
VERSION:2.0
PRODID:-//Monona Bakery &amp; Eatery - ECPv6.14.0//NONSGML v1.0//EN
CALSCALE:GREGORIAN
METHOD:PUBLISH
X-WR-CALNAME:Monona Bakery &amp; Eatery
X-ORIGINAL-URL:https://mononabakeryeatery.com
X-WR-CALDESC:Events for Monona Bakery &amp; Eatery
REFRESH-INTERVAL;VALUE=DURATION:PT1H
X-Robots-Tag:noindex
X-PUBLISHED-TTL:PT1H
BEGIN:VTIMEZONE
TZID:UTC
BEGIN:STANDARD
TZOFFSETFROM:+0000
TZOFFSETTO:+0000
TZNAME:UTC
DTSTART:20220101T000000
END:STANDARD
END:VTIMEZONE
BEGIN:VEVENT
DTSTART;TZID=UTC:20220706T080000
DTEND;TZID=UTC:20220706T170000
DTSTAMP:20260425T184643
CREATED:20220406T154023Z
LAST-MODIFIED:20220406T154023Z
UID:280-1657094400-1657126800@mononabakeryeatery.com
SUMMARY:Tortillas 4 Ways
DESCRIPTION:In this class we will teach you how to make 4 different types of tortillas by hand. We will make flour tortillas\, corn tortillas\, cassava tortillas\, and green banana tortillas. All materials will be included and you will be able to make your own Baleadas with the flour tortillas you make during the
URL:https://mononabakeryeatery.com/event/tortillas-4-ways
ATTACH;FMTTYPE=image/jpeg:https://mononabakeryeatery.com/wp-content/uploads/2022/04/tortillas.jpg
END:VEVENT
BEGIN:VEVENT
DTSTART;TZID=UTC:20220606T080000
DTEND;TZID=UTC:20220606T080000
DTSTAMP:20260425T184643
CREATED:20220406T114658Z
LAST-MODIFIED:20220406T154147Z
UID:181-1654502400-1654502400@mononabakeryeatery.com
SUMMARY:Tres Leches Cake Class
DESCRIPTION:If you have ever wanted to learn how to make a Tres Leches Cake this is the class for you! We will have 6 spots available. Everything you need for this class will be provided for you\, materials\, equipment\, recipes ect. We will also provide some light snacks and coffee.
URL:https://mononabakeryeatery.com/event/tres-leches-cake-class
ATTACH;FMTTYPE=image/jpeg:https://mononabakeryeatery.com/wp-content/uploads/2022/04/tres_leches_class.jpg
END:VEVENT
END:VCALENDAR